BEGIN:VCALENDAR
VERSION:2.0
PRODID:GIGPRESS 2.0 WORDPRESS PLUGIN
CALSCALE:GREGORIAN
X-WR-TIMEZONE:Etc/GMT
METHOD:PUBLISH
BEGIN:VTIMEZONE
TZID:GMT
BEGIN:STANDARD
DTSTART:20071028T010000
TZOFFSETTO:+0000
TZOFFSETFROM:+0000
END:STANDARD
END:VTIMEZONE
BEGIN:VEVENT
SUMMARY:JASON LUCKETT at Ruskin Group Theatre Co.
DESCRIPTION:: Short Appearance / Guest Artist. Price: $20. Notes: Library Girl Presents: Mama\, You Been On My Mind. Mother's Day Night\, May 10th at 7pm! Readings by: Debbon Ayer\, Chanel Brenner\, Jane Cantlllon\, Jen Cheng\, Karen Croner\, Alexis Rhone Fancher\, Cassandra Lane\, Jason Luckett\, Steven Meloan and Pat Thomas. Music by Julianne Glass. Ruskin Group Theatre\, 2800 Airport Ave\, Santa Monica 90405. 2 doors west of former location. $20. All Ages
LOCATION:Ruskin Group Theatre Co.\, 2800 Airport Avenue\, Santa Monica\, US
UID:20260511T020000Z-242-jason@jasonluckett.com
URL:https://www.jasonluckett.com/5-10-26-mama-you-been-on-my-mind-library-girl-santa-monica/
DTSTART;VALUE=DATE-TIME;TZID=GMT:20260511T020000Z
DTEND;VALUE=DATE-TIME;TZID=GMT:20260511T020000Z
DTSTAMP:20260421T041516Z
END:VEVENT
END:VCALENDAR