BEGIN:VCALENDAR
VERSION:2.0
PRODID:GIGPRESS 2.0 WORDPRESS PLUGIN
CALSCALE:GREGORIAN
X-WR-TIMEZONE:Etc/GMT
METHOD:PUBLISH
BEGIN:VTIMEZONE
TZID:GMT
BEGIN:STANDARD
DTSTART:20071028T010000
TZOFFSETTO:+0000
TZOFFSETFROM:+0000
END:STANDARD
END:VTIMEZONE
BEGIN:VEVENT
SUMMARY:JASON LUCKETT at UnUrban Coffee House
DESCRIPTION:: Short Appearance / Guest Artist. Price: $20. All Ages
LOCATION:UnUrban Coffee House\, 3301 Pico Blvd\, Santa Monica\, US
UID:20260522T020000Z-243-jason@jasonluckett.com
URL:https://www.jasonluckett.com/5-21-26-far-west-third-thursdays-santa-monica/
DTSTART;VALUE=DATE-TIME;TZID=GMT:20260522T020000Z
DTEND;VALUE=DATE-TIME;TZID=GMT:20260522T020000Z
DTSTAMP:20260421T040814Z
END:VEVENT
END:VCALENDAR